BEGIN:VCALENDAR
PRODID:-//hacksw/handcal//NONSGML v1.0//EN
VERSION:2.0
METHOD:PUBLISH
BEGIN:VEVENT
DTSTART:20120110T020000Z
DTEND:20120110T043000Z
LOCATION:Victoria Club, 2521 Arroyo Drive, Riverside
UID:706920120110T020000ZComing Soon
DTSTAMP:20260422T094330Z
DESCRIPTION:\nOur January meeting will be a combined meeting with the Riverside Estate Planning Council   THIS MEETING WILL BE ON WEDNESDAY, JANUARY 9 AT THE VICTORIA COUNTRY CLUB, SAVE THE DATE!\n
SUMMARY:Coming Soon - Estate Planning Council of San Bernardino County 
PRIORITY:3
BEGIN:VALARM
TRIGGER:PT18H
ACTION:DISPLAY
DESCRIPTION:Reminder
END:VALARM
END:VEVENT
END:VCALENDAR