BEGIN:VCALENDAR
PRODID:-//hacksw/handcal//NONSGML v1.0//EN
VERSION:2.0
METHOD:PUBLISH
BEGIN:VEVENT
DTSTART:20261215T193000Z
DTEND:20261215T213000Z
LOCATION:San Bernardino County Museum, 2024 Orange Tree Lane, Redlands, CA 92374
UID:2783020261215T193000ZHow to Spot the Red Flags of Financial Elder Abuse
DTSTAMP:20260422T110124Z
DESCRIPTION:
SUMMARY:How to Spot the Red Flags of Financial Elder Abuse - Estate Planning Council of San Bernardino County 
PRIORITY:3
BEGIN:VALARM
TRIGGER:PT18H
ACTION:DISPLAY
DESCRIPTION:Reminder
END:VALARM
END:VEVENT
END:VCALENDAR