BEGIN:VCALENDAR
PRODID:-//hacksw/handcal//NONSGML v1.0//EN
VERSION:2.0
METHOD:PUBLISH
BEGIN:VEVENT
DTSTART:20250415T183000Z
DTEND:20250415T203000Z
LOCATION:Hilton Garden Inn San Bernardino, CA 
UID:2607720250415T183000ZEstate Planning and Fraud
DTSTAMP:20260421T032743Z
DESCRIPTION:\nSAVE THE DATE!!\n \nJOIN US FOR THE APRIL MEETING AT THE HILTON GARDEN INN, SAN BERNARDINO . . .\n \n \n \nESTATE PLANNING AND FRAUD\n \npresented by Christopher Shumate, Esq.\n \nThe Estate Planning Council of San Bernardino County is pleased to welcome Christopher Shumate, to present at the April In-Person meeting on the topic of Estate Planning and Fraud. \n \nChris is a Certified Specialist in Probate, Estate Planning & Trust Law. He received his J.D. from Chapman University School of Law (cum laude with an emphasis in taxation) and a B.A. from University of California Riverside.  Chris is a partner at Redlands firm of Albrektson & Shumate LLP and has been providing services in the areas of Estate Planning, Trust and Probate law since 2008.  Prior to 2008, Chris served as a Deputy District Attorney for the County of Riverside in the Domestic Violence, Adult Sexual Assault and Child Abuse Units.               \n \nMark your calendars and RSVP below.  Come early to enjoy some informal networking time and reconnect with fellow members, friends and colleagues!\n \n \n
SUMMARY:Estate Planning and Fraud - Estate Planning Council of San Bernardino County 
PRIORITY:3
BEGIN:VALARM
TRIGGER:PT18H
ACTION:DISPLAY
DESCRIPTION:Reminder
END:VALARM
END:VEVENT
END:VCALENDAR