BEGIN:VCALENDAR
PRODID:-//hacksw/handcal//NONSGML v1.0//EN
VERSION:2.0
METHOD:PUBLISH
BEGIN:VEVENT
DTSTART:20241020T180000Z
DTEND:20241021T020000Z
LOCATION:
UID:2597920241020T180000Z61st Annual NAEPC Advanced Estate Planning Strategies Conference & Council Leadership Conference 
DTSTAMP:20260419T202021Z
DESCRIPTION:\nFor conference pricing, registration deadlines and additional information, please utilize the link below.  \n \nhttps://www.naepc.org/conference\n \n \n
SUMMARY:61st Annual NAEPC Advanced Estate Planning Strategies Conference & Council Leadership Conference  - Estate Planning Council of San Bernardino County 
PRIORITY:3
BEGIN:VALARM
TRIGGER:PT18H
ACTION:DISPLAY
DESCRIPTION:Reminder
END:VALARM
END:VEVENT
END:VCALENDAR