BEGIN:VCALENDAR
PRODID:-//hacksw/handcal//NONSGML v1.0//EN
VERSION:2.0
METHOD:PUBLISH
BEGIN:VEVENT
DTSTART:20230517T183000Z
DTEND:20230517T203000Z
LOCATION:Hilton Garden Inn, San Bernardino, CA
UID:2340920230517T183000ZA Practical Guide to Crypto Assets for Trustees and Administrators
DTSTAMP:20260419T201853Z
DESCRIPTION:\nSAVE THE DATE!!\n \nJOIN US FOR THE MAY MEETING AT THE HILTON GARDEN INN IN SAN BERNARDINO!\n \nA PRACTICAL GUIDE TO CRYPTO ASSETS FOR TRUSTEES AND ADMINISTRATORS  \n \n \n \npresented by Jeremy Lau, CFA CFP and Jared Ong, CFP\n \n \n \nThe Estate Planning Council of San Bernardino County is excited to welcome Jeremy Lau and Jared Ong from Prudent Investors to present at the May In-Person meeting on the topic of Crypto Assets. \n \nMark your calendars and RSVP below.  Come early to enjoy some informal networking time and reconnect with fellow members, friends and colleagues!\n \nPLEASE CLICK ON THE LINK BELOW TO REGISTER FOR THIS EVENT:\n
SUMMARY:A Practical Guide to Crypto Assets for Trustees and Administrators - Estate Planning Council of San Bernardino County 
PRIORITY:3
BEGIN:VALARM
TRIGGER:PT18H
ACTION:DISPLAY
DESCRIPTION:Reminder
END:VALARM
END:VEVENT
END:VCALENDAR