BEGIN:VCALENDAR
PRODID:-//hacksw/handcal//NONSGML v1.0//EN
VERSION:2.0
METHOD:PUBLISH
BEGIN:VEVENT
DTSTART:20221221T200000Z
DTEND:20221221T220000Z
LOCATION:440 Oriental Street, Suite 401, Redlands, CA
UID:2255120221221T200000ZDecember Social Meeting - Escape Craft Brewery - Downtown Oasis in Redlands
DTSTAMP:20260420T121133Z
DESCRIPTION:\nEPC SAN BERNARDINO\n \nDECEMBER SOCIAL\n \nESCAPE CRAFT BREWERY - DOWNTOWN OASIS\n \nJOIN FRIENDS AND COLLEAGUES FOR LUNCH AND A BREWERY TOUR\n \nMark your calendars and RSVP below! Members are encouraged to bring a guest who is eligible and interested in becoming a member of EPCSB.  \n \nEVENT DETAILS\n \nDate: Wednesday, December 21, 2022 \nTime:  12:00 noon \n Location: 440 Oriental Ave., Redlands, CA\n \n \n
SUMMARY:December Social Meeting - Escape Craft Brewery - Downtown Oasis in Redlands - Estate Planning Council of San Bernardino County 
PRIORITY:3
BEGIN:VALARM
TRIGGER:PT18H
ACTION:DISPLAY
DESCRIPTION:Reminder
END:VALARM
END:VEVENT
END:VCALENDAR