BEGIN:VCALENDAR
PRODID:-//hacksw/handcal//NONSGML v1.0//EN
VERSION:2.0
METHOD:PUBLISH
BEGIN:VEVENT
DTSTART:20180221T194500Z
DTEND:20180221T211500Z
LOCATION:Arrowhead Country Club
UID:1492820180221T194500ZInsights Into the Philanthropic Mind - What Advisors Need to Know
DTSTAMP:20260420T081123Z
DESCRIPTION:\nSAVE THE DATE - JOIN US FOR OUR FEBRUARY MEETING!\n \nINSIGHTS INTO THE PHILANTHROPIC MIND - \n \nWHAT ADVISORS NEED TO KNOW \n \npresented by Greg Fisher\n \nThe Estate Planning Council of San Bernardino is excited to welcome Greg Fisher to our February meeting.  \n \nGreg is the Executive Director of Philanthropy at Hazeldon Betty Ford Foundation.  He has a strong background in working with major donors all over the country - he has worked on capital campaigns, guided philanthropy strategic planning, and coached several non-profit boards to raise funds for their respective missions.  Greg has also held positions as Executive Director for American Heart Association and Capital Campaign Director for Coachella Valley Rescue Mission.  It is his passion to help people, especially assisting donors to realize their philanthropic dreams.  As a longtime resident of Palm Springs, Greg enjoys golf, Bikram yoga, and cool desert nights.  He just celebrated 32 years of marriage and has two children.  We are pleased that he has agreed to travel from Palm Springs to present to our council.   \n \nJoin us for what is sure to be an informative and engaging presentation!\n \n \n \n \n
SUMMARY:Insights Into the Philanthropic Mind - What Advisors Need to Know - Estate Planning Council of San Bernardino County 
PRIORITY:3
BEGIN:VALARM
TRIGGER:PT18H
ACTION:DISPLAY
DESCRIPTION:Reminder
END:VALARM
END:VEVENT
END:VCALENDAR