BEGIN:VCALENDAR
PRODID:-//hacksw/handcal//NONSGML v1.0//EN
VERSION:2.0
METHOD:PUBLISH
BEGIN:VEVENT
DTSTART:20150312T003000Z
DTEND:20150312T033000Z
LOCATION:University Club  University of Redlands
UID:1148720150312T003000ZLEGAL ISSUES RELATING TO GUN POSSESSION
DTSTAMP:20260425T165557Z
DESCRIPTION:\nPresident Craig wants us to know that this is not your standard discussion on 'gun trusts' ,  will be discussing both the state and federal law on the legality of possession and transfer of firearms\n \nBRUCE COLODNY PROFESSIONAL BIOGRAPHY – \n \nFor 32 years Attorney Bruce Colodny has defended gun owners, dealers and manufacturers charged with violating California and Federal gun laws. Bruce has educated and warned California gun owners of the many "legal traps" they face through his website GunLaw.com, on radio and television, as a legal instructor at firearms training classes and continuing legal education seminars for other attorneys, as an author for gun magazines, speaking to numerous gun clubs and groups, providing free firearms legal information as an exhibitor at Crossroads of the West gun shows, and distributing his wide variety of free advisory legal guides for California gun owners through sporting goods stores and ranges. A life member of the National Rifle Association since 1977, a life member of the California Rifle and Pistol Association (CRPA) since1983, and a member of the CRPA Board of Directors continuously since 1990.\n \nLAW OFFICES OF BRUCE COLODNY \n \nORANGE OFFICE SAN BERNARDINO OFFICE MAILING ADDRESS \n \n850 E. Chapman Ave., Suite C 1881 Business Center Dr., Suite 8-B P.O. Box 10787 \n \nOrange, California San Bernardino, California San Bernardino, CA 92423-0787 \n \n(714) 639-6767 (909) 862-3113 FAX (909) 864-5243 \n \n \n \n \n
SUMMARY:LEGAL ISSUES RELATING TO GUN POSSESSION - Estate Planning Council of San Bernardino County 
PRIORITY:3
BEGIN:VALARM
TRIGGER:PT18H
ACTION:DISPLAY
DESCRIPTION:Reminder
END:VALARM
END:VEVENT
END:VCALENDAR